BEGIN:VCALENDAR
VERSION:2.0
PRODID:-//OneGov//onegov.event//
BEGIN:VEVENT
SUMMARY:Klassenkonzert Gitarre\, Wehning Axel
DTSTART:20251219T170000Z
DTEND:20251219T180000Z
DTSTAMP:20251126T165951Z
UID:klassenkonzert-gitarre-wehning-axel-2025-12-19@onegov.event
CATEGORIES:Music,Concert
DESCRIPTION:Es spielen die Schülerinnen und Schüler der Gitarrenklasse v
 on Wehning Axel
LAST-MODIFIED:20251126T165951Z
LOCATION:Aula Schulhaus Hofmatt
URL:https://www.musikschule-horw.ch/event/klassenkonzert-gitarre-wehning-a
 xel-2025-12-19
END:VEVENT
END:VCALENDAR
