BEGIN:VCALENDAR
VERSION:2.0
PRODID:-//OneGov//onegov.event//
BEGIN:VEVENT
SUMMARY:Klassenkonzert Klavier\, Biedermann Cornelia
DTSTART:20251216T180000Z
DTEND:20251216T190000Z
DTSTAMP:20250908T134736Z
UID:klassenkonzert-klavier-biedermann-cornelia-2025-12-16@onegov.event
CATEGORIES:Music,Concert
DESCRIPTION:Es spielen die Schülerinnen und Schüler der Klavierklasse Co
 rnelia Biedermann. 
LAST-MODIFIED:20250908T134736Z
LOCATION:Aula Schulhaus Zentrum
URL:https://www.musikschule-horw.ch/event/klassenkonzert-klavier-biederman
 n-cornelia-2025-12-16
END:VEVENT
END:VCALENDAR
