BEGIN:VCALENDAR
VERSION:2.0
PRODID:-//OneGov//onegov.event//
BEGIN:VEVENT
SUMMARY:Klassenkonzert Klavier\, Stäuble Sandra
DTSTART:20251218T180000Z
DTEND:20251218T190000Z
DTSTAMP:20251126T170445Z
UID:klassenkonzert-klavier-staeuble-sandra-2025-12-18@onegov.event
CATEGORIES:Music,Concert
DESCRIPTION:Es spielen die Schülerinnen und Schüler der Klavierklasse Sa
 ndra Stäuble
LAST-MODIFIED:20251126T170445Z
LOCATION:Aula Schulhaus Zentrum
URL:https://www.musikschule-horw.ch/event/klassenkonzert-klavier-staeuble-
 sandra-2025-12-18
END:VEVENT
END:VCALENDAR
